BEGIN:VCALENDAR
VERSION:2.0
PRODID:-//JCRC - ECPv6.15.20//NONSGML v1.0//EN
CALSCALE:GREGORIAN
METHOD:PUBLISH
X-ORIGINAL-URL:https://minndakjcrc.org
X-WR-CALDESC:Events for JCRC
REFRESH-INTERVAL;VALUE=DURATION:PT1H
X-Robots-Tag:noindex
X-PUBLISHED-TTL:PT1H
BEGIN:VTIMEZONE
TZID:America/New_York
BEGIN:DAYLIGHT
TZOFFSETFROM:-0500
TZOFFSETTO:-0400
TZNAME:EDT
DTSTART:20230312T070000
END:DAYLIGHT
BEGIN:STANDARD
TZOFFSETFROM:-0400
TZOFFSETTO:-0500
TZNAME:EST
DTSTART:20231105T060000
END:STANDARD
BEGIN:DAYLIGHT
TZOFFSETFROM:-0500
TZOFFSETTO:-0400
TZNAME:EDT
DTSTART:20240310T070000
END:DAYLIGHT
BEGIN:STANDARD
TZOFFSETFROM:-0400
TZOFFSETTO:-0500
TZNAME:EST
DTSTART:20241103T060000
END:STANDARD
BEGIN:DAYLIGHT
TZOFFSETFROM:-0500
TZOFFSETTO:-0400
TZNAME:EDT
DTSTART:20250309T070000
END:DAYLIGHT
BEGIN:STANDARD
TZOFFSETFROM:-0400
TZOFFSETTO:-0500
TZNAME:EST
DTSTART:20251102T060000
END:STANDARD
END:VTIMEZONE
BEGIN:VEVENT
DTSTART;TZID=America/New_York:20240417T190000
DTEND;TZID=America/New_York:20240417T203000
DTSTAMP:20260421T130226
CREATED:20240320T153157Z
LAST-MODIFIED:20240402T153433Z
UID:5448-1713380400-1713385800@minndakjcrc.org
SUMMARY:Antisemitism and Schools
DESCRIPTION:Antisemitism and Schools: A Community Conversation on Challenges and Opportunities \nWednesday\, April 17\n7-8:30 p.m.\nJFCS – 5905 Golden Valley Rd\, Golden Valley\n(In-person and virtual option) \nRegister to attend \nThe 2023-24 school year has been unlike any other for Jewish students\, teachers\, and families. What are the challenges facing Jews in schools? What opportunities are there for building school communities that embrace their Jewish families? Join an expert panel of school stakeholders and advocates for a reflective discussion that will assess problems and offer ideas and solutions. \nPANELISTS: Moderated by Jordana Green\, WCCO Radio \n> Holly Brod Farber\, Director of Judaism and Israel Education\, JCRC \n> Leah Persky\, PhD & CFLE\, Manager of Professional and Community Education & Addiction and Recovery Services\, JFCS \n> Mindy Daitchman\, City Director\, Jewish Student Union \n> Melissa Del Rosario\, Education Issues Specialist/Jewish Affinity Space Founder at Education Minnesota \n> Rebecca Badzin\, Hopkins High School Jewish Student Union Vice President \n 
URL:https://minndakjcrc.org/event/antisemitism-and-schools/
LOCATION:Jewish Family and Children’s Service of Minneapolis\, 5905 Golden Valley Rd\, Golden Valley\, MN\, 55422\, United States
CATEGORIES:Combatting Antisemitism
ATTACH;FMTTYPE=image/png:https://minndakjcrc.org/wp-content/uploads/2024/03/antisemitism-and-schools-.png
END:VEVENT
END:VCALENDAR