BEGIN:VCALENDAR
VERSION:2.0
PRODID:-//JCRC - ECPv6.15.20//NONSGML v1.0//EN
CALSCALE:GREGORIAN
METHOD:PUBLISH
X-WR-CALNAME:JCRC
X-ORIGINAL-URL:https://minndakjcrc.org
X-WR-CALDESC:Events for JCRC
REFRESH-INTERVAL;VALUE=DURATION:PT1H
X-Robots-Tag:noindex
X-PUBLISHED-TTL:PT1H
BEGIN:VTIMEZONE
TZID:America/New_York
BEGIN:DAYLIGHT
TZOFFSETFROM:-0500
TZOFFSETTO:-0400
TZNAME:EDT
DTSTART:20240310T070000
END:DAYLIGHT
BEGIN:STANDARD
TZOFFSETFROM:-0400
TZOFFSETTO:-0500
TZNAME:EST
DTSTART:20241103T060000
END:STANDARD
BEGIN:DAYLIGHT
TZOFFSETFROM:-0500
TZOFFSETTO:-0400
TZNAME:EDT
DTSTART:20250309T070000
END:DAYLIGHT
BEGIN:STANDARD
TZOFFSETFROM:-0400
TZOFFSETTO:-0500
TZNAME:EST
DTSTART:20251102T060000
END:STANDARD
BEGIN:DAYLIGHT
TZOFFSETFROM:-0500
TZOFFSETTO:-0400
TZNAME:EDT
DTSTART:20260308T070000
END:DAYLIGHT
BEGIN:STANDARD
TZOFFSETFROM:-0400
TZOFFSETTO:-0500
TZNAME:EST
DTSTART:20261101T060000
END:STANDARD
END:VTIMEZONE
BEGIN:VEVENT
DTSTART;TZID=America/New_York:20250327T130000
DTEND;TZID=America/New_York:20250327T141500
DTSTAMP:20260419T113330
CREATED:20250205T195543Z
LAST-MODIFIED:20250205T195543Z
UID:6840-1743080400-1743084900@minndakjcrc.org
SUMMARY:Book Club: Never Again Will I Visit Auschwitz with Ari Richter
DESCRIPTION:Program \nAri Richter will present his book in an opening talk\, with questions and discussion to follow. Even if you have not read his work\, you are invited to attend the opening talk\, ask questions\, and be part of the discussion. \n\nFinding the Book: \nDirectly From the Publisher \nAmazon\, both in print and for Kindle \nThe book can also be ordered through other bookstores. Copies can also now be checked out of many larger library systems \n\n\nAbout Never Again Will I Visit Auschwitz: A Graphic Family Memoir of Trauma & Inheritance \nIn this debut graphic memoir\, New York-based artist Ari Richter weaves together two haunting stories – his grand- and great-grandparents’ imprisonment in Dachau\, Buchenwald\, and Auschwitz\, and his own awakening to the contemporary rise of authoritarianism and the continuing crisis of anti-Semitism – with delicacy\, immediacy\, and an attention to surreal detail. \nNever Again Will I Visit Auschwitz is an act of self-discovery and the resuscitation of historical memory. At its heart is the intersection of a genocidal political moment in 20th century history and the author’s own family history. Told from the perspectives of four generations of the author’s family\, spanning pre-war Germany to post-Trump America\, it is both a celebration of Jewish cultural resilience and a warning of democracy’s fragility in the face of the seductive forces of authoritarianism. Part travelogue\, part memoir\, part historic retelling\, author Ari Richter recreates his family’s journey leading up to and extending beyond the Holocaust. \nRelying on extensive genealogical research and his family’s archiving\, Richter illustrates the lives of his grandparents while reflecting on the burden of a storyteller to carry on these legacies. It is a rare glimpse into the firsthand stories of both Holocaust survivors and their descendants\, told as an intertwined tapestry of faith\, grief\, and ultimately\, survival. Never Again Will I Visit Auschwitz is an intimate reflection on coming to grips with the past. Harrowing and humorous in equal measure\, this evocatively drawn graphic novel will be discussed for generations to come. \n\nAri Richter is a New York-based visual artist and comics creator\, born in Tampa\, FL in 1983. He received a fully public education from grade school to grad school\, and is currently a Professor of Fine Arts at LaGuardia Community College in The City University of New York. Hi debut book\, Never Again Will I Visit Auschwitz: A Graphic Family Memoir of Trauma & Inheritance is out now from Fantagraphics Books. \nRichter has received fellowships from the Mellon Foundation/American Council of Learned Societies\, and the Memorial Foundation for Jewish Culture\, multiple project grants from the CUNY Research Foundation\, and residencies from the Vermont Studio Center\, the Woodward Residency and the University of Texas at Dallas. His drawings\, sculptures\, videos and performances have been presented at The Skirball Cultural Center\, The National Museum of American Jewish History\, The Tampa Museum of Art\, The Spartanburg Art Museum\, The Weatherspoon Art Museum\, The Bruce High Quality Foundation University\, Flux Factory\, CentralTrak\, Athens Institute for Contemporary Art\, Nexus Foundation for Today’s Art\, and Celebrate Brooklyn! festival. His graphic work has been featured in Hyperallergic and Tablet Magazine. \n  \n\n\nJCRC is pleased to co-sponsor this program / book club in conjunction with Leo Baeck Institute. Ari Richter’s grandfather\, one of the characters in his graphic novel\, served as rabbi in Sioux Falls\, SD\, upon fleeing Europe.
URL:https://minndakjcrc.org/event/book-club-never-again-will-i-visit-auschwitz-with-ari-richter/
LOCATION:Zoom
CATEGORIES:Holocaust Education & Remembrance
ATTACH;FMTTYPE=image/jpeg:https://minndakjcrc.org/wp-content/uploads/2025/02/never-again-ari-richter-hero-.61311c79.fill-883x588-c100.jpg
END:VEVENT
BEGIN:VEVENT
DTSTART;TZID=America/New_York:20250327T180000
DTEND;TZID=America/New_York:20250327T193000
DTSTAMP:20260419T113330
CREATED:20250319T173426Z
LAST-MODIFIED:20250319T173426Z
UID:6960-1743098400-1743103800@minndakjcrc.org
SUMMARY:Notable Jewish Women
DESCRIPTION:Join us at Central Middle School in Eden Prairie on March 27 to hear the stories of six fascinating\, creative and impactful Jewish women\, told by local Jewish women!
URL:https://minndakjcrc.org/event/notable-jewish-women/
LOCATION:Central Middle School\, Room 314\, 8025 School Rd\, Eden Prairie\, MN\, 55344\, United States
ATTACH;FMTTYPE=image/png:https://minndakjcrc.org/wp-content/uploads/2025/03/JCRC-Presentations-IG-1080-x-1350-px-e1742405503324.png
END:VEVENT
END:VCALENDAR