BEGIN:VCALENDAR
VERSION:2.0
PRODID:-//JCRC - ECPv6.15.20//NONSGML v1.0//EN
CALSCALE:GREGORIAN
METHOD:PUBLISH
X-WR-CALNAME:JCRC
X-ORIGINAL-URL:https://minndakjcrc.org
X-WR-CALDESC:Events for JCRC
REFRESH-INTERVAL;VALUE=DURATION:PT1H
X-Robots-Tag:noindex
X-PUBLISHED-TTL:PT1H
BEGIN:VTIMEZONE
TZID:America/New_York
BEGIN:DAYLIGHT
TZOFFSETFROM:-0500
TZOFFSETTO:-0400
TZNAME:EDT
DTSTART:20240310T070000
END:DAYLIGHT
BEGIN:STANDARD
TZOFFSETFROM:-0400
TZOFFSETTO:-0500
TZNAME:EST
DTSTART:20241103T060000
END:STANDARD
BEGIN:DAYLIGHT
TZOFFSETFROM:-0500
TZOFFSETTO:-0400
TZNAME:EDT
DTSTART:20250309T070000
END:DAYLIGHT
BEGIN:STANDARD
TZOFFSETFROM:-0400
TZOFFSETTO:-0500
TZNAME:EST
DTSTART:20251102T060000
END:STANDARD
BEGIN:DAYLIGHT
TZOFFSETFROM:-0500
TZOFFSETTO:-0400
TZNAME:EDT
DTSTART:20260308T070000
END:DAYLIGHT
BEGIN:STANDARD
TZOFFSETFROM:-0400
TZOFFSETTO:-0500
TZNAME:EST
DTSTART:20261101T060000
END:STANDARD
END:VTIMEZONE
BEGIN:VEVENT
DTSTART;TZID=America/New_York:20251104T190000
DTEND;TZID=America/New_York:20251104T203000
DTSTAMP:20260425T155748
CREATED:20251013T170833Z
LAST-MODIFIED:20251013T170833Z
UID:7828-1762282800-1762288200@minndakjcrc.org
SUMMARY:Jewish Civilization: The Roots of Our Shared Story
DESCRIPTION:The Jewish People continue to steward an ancient civilization indigenous to Eretz Yisrael (the Land of Israel). This resilient people introduced countercultural ideas about God\, human dignity\, and the responsibilities of freedom that shape our world’s moral foundations. For 2\,500 years\, Jews have also endured a distinctive pattern of hostility built on a big lie that casts Jews as threats to whatever society values most. \nIn this seminar\, we’ll explore the core ideas of Jewish civilization and the pattern of antisemitism—and why recognizing both is essential for making sense of our shared story and its impact on our world.
URL:https://minndakjcrc.org/event/jewish-civilization-the-roots-of-our-shared-story/
LOCATION:New Hope Church\, 4225 Gettysburg Ave N\, New Hope\, MN\, 55428\, United States
CATEGORIES:Combatting Antisemitism,Israel Education and Engagement
ATTACH;FMTTYPE=image/png:https://minndakjcrc.org/wp-content/uploads/2025/10/New-Hope-Church-Screen.png
END:VEVENT
END:VCALENDAR