BEGIN:VCALENDAR
VERSION:2.0
PRODID:-//JCRC - ECPv6.15.20//NONSGML v1.0//EN
CALSCALE:GREGORIAN
METHOD:PUBLISH
X-ORIGINAL-URL:https://minndakjcrc.org
X-WR-CALDESC:Events for JCRC
REFRESH-INTERVAL;VALUE=DURATION:PT1H
X-Robots-Tag:noindex
X-PUBLISHED-TTL:PT1H
BEGIN:VTIMEZONE
TZID:America/New_York
BEGIN:DAYLIGHT
TZOFFSETFROM:-0500
TZOFFSETTO:-0400
TZNAME:EDT
DTSTART:20240310T070000
END:DAYLIGHT
BEGIN:STANDARD
TZOFFSETFROM:-0400
TZOFFSETTO:-0500
TZNAME:EST
DTSTART:20241103T060000
END:STANDARD
BEGIN:DAYLIGHT
TZOFFSETFROM:-0500
TZOFFSETTO:-0400
TZNAME:EDT
DTSTART:20250309T070000
END:DAYLIGHT
BEGIN:STANDARD
TZOFFSETFROM:-0400
TZOFFSETTO:-0500
TZNAME:EST
DTSTART:20251102T060000
END:STANDARD
BEGIN:DAYLIGHT
TZOFFSETFROM:-0500
TZOFFSETTO:-0400
TZNAME:EDT
DTSTART:20260308T070000
END:DAYLIGHT
BEGIN:STANDARD
TZOFFSETFROM:-0400
TZOFFSETTO:-0500
TZNAME:EST
DTSTART:20261101T060000
END:STANDARD
END:VTIMEZONE
BEGIN:VEVENT
DTSTART;TZID=America/New_York:20251214T100000
DTEND;TZID=America/New_York:20251214T113000
DTSTAMP:20260425T173136
CREATED:20251113T201744Z
LAST-MODIFIED:20251202T193427Z
UID:8001-1765706400-1765711800@minndakjcrc.org
SUMMARY:Addressing Antisemitism in a Post-October 7th World
DESCRIPTION:A Panel Presentation (45 minutes) with Mount Zion members David Kristal\, co-founder of Emissary; Laura Zelle\, director of Emissary; and JCRC’s Steve Hunegs (Executive Director) and Sami Rahamim (Director of Communications and Community Affairs). Large group Q & A (30 minutes). \nFaced with rising antisemitism\, increasing misunderstanding about Jewish culture and Israel\, and justified and unjustified reactions to Israel’s conduct since October 7th\, we are reeling from the onslaught online and in person. Some are choosing to act\, seeking innovation over isolation. The future of Jewish engagement is being written right now—not in boardrooms or synagogues\, but in apps\, algorithms\, and digital communities that reach millions\, and in new curricula and methods for telling our story. But it isn’t clear how to succeed in these efforts. \nEmissary – a mobile app platform designed to address the dramatic rise in antisemitism\, combat hate speech\, and shift social opinion in a more positive direction – has tried different approaches and recently created partnerships with national organizations. JCRC\, meanwhile\, has experimented with new ways to counter antisemitism in partnership with author Dara Horn. Join us on December 14 to learn what they have learned works and for an open conversation about what we each can do practically in our online communities and in our relationships at home\, work\, and school. \nREGISTER
URL:https://minndakjcrc.org/event/addressing-antisemitism-in-a-post-october-7th-world/
LOCATION:Mount Zion Temple\, 1300 Summit Avenue\, St. Paul\, MN\, 55105\, United States
CATEGORIES:Combatting Antisemitism
ATTACH;FMTTYPE=image/png:https://minndakjcrc.org/wp-content/uploads/2025/11/Screenshot-2025-11-13-at-2.16.51-PM.png
END:VEVENT
END:VCALENDAR