BEGIN:VCALENDAR
VERSION:2.0
PRODID:-//JCRC - ECPv6.15.20//NONSGML v1.0//EN
CALSCALE:GREGORIAN
METHOD:PUBLISH
X-WR-CALNAME:JCRC
X-ORIGINAL-URL:https://minndakjcrc.org
X-WR-CALDESC:Events for JCRC
REFRESH-INTERVAL;VALUE=DURATION:PT1H
X-Robots-Tag:noindex
X-PUBLISHED-TTL:PT1H
BEGIN:VTIMEZONE
TZID:America/New_York
BEGIN:DAYLIGHT
TZOFFSETFROM:-0500
TZOFFSETTO:-0400
TZNAME:EDT
DTSTART:20200308T070000
END:DAYLIGHT
BEGIN:STANDARD
TZOFFSETFROM:-0400
TZOFFSETTO:-0500
TZNAME:EST
DTSTART:20201101T060000
END:STANDARD
BEGIN:DAYLIGHT
TZOFFSETFROM:-0500
TZOFFSETTO:-0400
TZNAME:EDT
DTSTART:20210314T070000
END:DAYLIGHT
BEGIN:STANDARD
TZOFFSETFROM:-0400
TZOFFSETTO:-0500
TZNAME:EST
DTSTART:20211107T060000
END:STANDARD
BEGIN:DAYLIGHT
TZOFFSETFROM:-0500
TZOFFSETTO:-0400
TZNAME:EDT
DTSTART:20220313T070000
END:DAYLIGHT
BEGIN:STANDARD
TZOFFSETFROM:-0400
TZOFFSETTO:-0500
TZNAME:EST
DTSTART:20221106T060000
END:STANDARD
END:VTIMEZONE
BEGIN:VEVENT
DTSTART;TZID=America/New_York:20210412T130000
DTEND;TZID=America/New_York:20210430T141500
DTSTAMP:20260422T142932
CREATED:20210324T153451Z
LAST-MODIFIED:20210324T153451Z
UID:1623-1618232400-1619792100@minndakjcrc.org
SUMMARY:Lessons from the Holocaust: History for Contemporary Learners
DESCRIPTION:What can we learn from the events leading up to and culminating in the Holocaust? How did the Nazis gain control of Germany and use their power to commit the greatest crime of the 20th century? What are our responsibilities as witnesses to this history? \nJoin a community of learners from across Minnesota and the Dakotas to explore these questions\, and much more. This flexible 15-course program allows participants to choose which classes to attend. \nRegister via Zoom\nSpring 2021 Course Schedule (all classes presented 1:00 – 2:15 PM) \nWeek 1\nApr. 12 European Jewish Life Before WWII\nApr. 13 Antisemitism History\nApr. 14 Rise of Nazism\nApr. 15 Power of Propaganda\nApr. 16 Collaboration & Complicity\n────\nWeek 2\nApr. 19 Role of Law & Conformity\nApr. 20 Challenges of Emigration & Immigration\nApr. 21 Holocaust by Bullets: Einsatzgruppen\nApr. 22 Wannsee Conference & The Final Solution\nApr. 23 Americans & the Holocaust\n────\nWeek 3\nApr. 26 Rescue & Resistance\nApr. 27 Liberation\, Displaced Persons\, and Nuremberg Trials\nApr. 28 Justice Delayed: Survivor Descendent Testimony\nApr. 29 Bearing Witness\nApr. 30 Contemporary Issues
URL:https://minndakjcrc.org/event/lessons-from-the-holocaust-history-for-contemporary-learners/2021-04-12/
CATEGORIES:Holocaust Education & Remembrance
ATTACH;FMTTYPE=image/png:https://minndakjcrc.org/wp-content/uploads/2021/02/Lessons-1280-x-720.png
END:VEVENT
BEGIN:VEVENT
DTSTART;TZID=America/New_York:20210408T180000
DTEND;TZID=America/New_York:20210408T200000
DTSTAMP:20260422T142932
CREATED:20210211T205540Z
LAST-MODIFIED:20210331T204800Z
UID:1615-1617904800-1617912000@minndakjcrc.org
SUMMARY:Yom HaShoah 5781/2021: Holocaust Remembrance Day
DESCRIPTION:Join people from across Minnesota and the Dakotas to commemorate Yom HaShoah. \n6:00 PM – Name-reading ceremony led by families of survivors and community members \n7:00 PM – Commemorative community service \nRegister via Zoom\nYom HaShoah – survivor descendant testimony. \n—\n\n\nThe Yom HaShoah Commemoration is co-sponsored by the Jewish Community Relations Council of Minnesota and the Dakotas\, Children of Holocaust Survivors Association of Minnesota (CHAIM)\, Temple of Aaron\, Minneapolis Jewish Federation\, St. Paul Jewish Federation\, Generations After MN\, and the Micki and Mort Naiman Holocaust Education Fund.
URL:https://minndakjcrc.org/event/yomhashoah/
CATEGORIES:Holocaust Education & Remembrance
ATTACH;FMTTYPE=image/png:https://minndakjcrc.org/wp-content/uploads/2021/02/YH-2021-16_9-1.png
END:VEVENT
END:VCALENDAR