BEGIN:VCALENDAR
VERSION:2.0
PRODID:-//JCRC - ECPv6.15.20//NONSGML v1.0//EN
CALSCALE:GREGORIAN
METHOD:PUBLISH
X-WR-CALNAME:JCRC
X-ORIGINAL-URL:https://minndakjcrc.org
X-WR-CALDESC:Events for JCRC
REFRESH-INTERVAL;VALUE=DURATION:PT1H
X-Robots-Tag:noindex
X-PUBLISHED-TTL:PT1H
BEGIN:VTIMEZONE
TZID:America/New_York
BEGIN:DAYLIGHT
TZOFFSETFROM:-0500
TZOFFSETTO:-0400
TZNAME:EDT
DTSTART:20220313T070000
END:DAYLIGHT
BEGIN:STANDARD
TZOFFSETFROM:-0400
TZOFFSETTO:-0500
TZNAME:EST
DTSTART:20221106T060000
END:STANDARD
BEGIN:DAYLIGHT
TZOFFSETFROM:-0500
TZOFFSETTO:-0400
TZNAME:EDT
DTSTART:20230312T070000
END:DAYLIGHT
BEGIN:STANDARD
TZOFFSETFROM:-0400
TZOFFSETTO:-0500
TZNAME:EST
DTSTART:20231105T060000
END:STANDARD
BEGIN:DAYLIGHT
TZOFFSETFROM:-0500
TZOFFSETTO:-0400
TZNAME:EDT
DTSTART:20240310T070000
END:DAYLIGHT
BEGIN:STANDARD
TZOFFSETFROM:-0400
TZOFFSETTO:-0500
TZNAME:EST
DTSTART:20241103T060000
END:STANDARD
END:VTIMEZONE
BEGIN:VEVENT
DTSTART;TZID=America/New_York:20230127T130000
DTEND;TZID=America/New_York:20230127T143000
DTSTAMP:20260422T125540
CREATED:20230103T212010Z
LAST-MODIFIED:20230103T212010Z
UID:3851-1674824400-1674829800@minndakjcrc.org
SUMMARY:International Holocaust Remembrance Day
DESCRIPTION:International Holocaust Remembrance Day: A Conversation with Rebecca Erbelding and Steve Hunegs\nIn honor of International Holocaust Remembrance Day\, hosted by JCRC\, a conversation with historian Rebecca Erbelding and JCRC Executive Director Steve Hunegs around “The US and the Holocaust” a film by Ken Burns\, Lynn Novick and Sarah Botstein. \nRegister via Eventbrite\nGuests are encouraged to watch the full 3 episodes of “The US and the Holocaust” before attending the conversation. “The US and the Holocaust” can be found on TPT.org via TPT Passport or on TPT2. \n#101 – The Golden Door (Beginnings – 1938) | Friday\, Jan 13 at 8pm TPT 2 \n#102 – Yearning to Breathe Free (1938 – 1942) | Friday\, Jan 20 at 8pm TPT 2 \n#103 – The Homeless\, The Tempest-Tossed (1942- )| Friday\, Jan 27 at 8pm TPT2 \nAdditional broadcast dates can be found on TPT.org. \nPARTNERS:
URL:https://minndakjcrc.org/event/international-holocaust-remembrance-day/
LOCATION:Plymouth Congregational Church\, 1900 Nicollet Avenue\, Minneapolis\, MN\, 55403
CATEGORIES:Holocaust Education & Remembrance
ATTACH;FMTTYPE=image/jpeg:https://minndakjcrc.org/wp-content/uploads/2023/01/us-and-the-holocaust-1920x1080-1.jpg
END:VEVENT
END:VCALENDAR